BEGIN:VCALENDAR
VERSION:2.0
PRODID:-//jEvents 2.0 for Joomla//EN
CALSCALE:GREGORIAN
METHOD:PUBLISH
BEGIN:VEVENT
UID:0d96a9ecfab9439d981a9606cb22d3ac
CATEGORIES:Recommandés
SUMMARY:Rob Armus
LOCATION:The Bootleg Bar, 55 rue de la Roquette, Paris
DESCRIPTION;ENCODING=QUOTED-PRINTABLE:\n\nune des résidences de Rob\n
DTSTAMP:20260421T163511Z
DTSTART:20130307T190000Z
DTEND:20130307T225900Z
SEQUENCE:0
RRULE:FREQ=WEEKLY;COUNT=4;INTERVAL=1;BYDAY=TH
TRANSP:OPAQUE
END:VEVENT
END:VCALENDAR