BEGIN:VCALENDAR
VERSION:2.0
PRODID:-//jEvents 2.0 for Joomla//EN
CALSCALE:GREGORIAN
METHOD:PUBLISH
BEGIN:VEVENT
UID:6c44db69829976c8b56fac48be1ab8e2
CATEGORIES:Recommandés
SUMMARY:Possessed by Paul James
LOCATION:Au Chat Noir 76, rue Jean-Pierre Timbaud, 75011 Paris
DESCRIPTION;ENCODING=QUOTED-PRINTABLE:Héros folk-country déchirant. 8 euros\n
DTSTAMP:20260421T212735Z
DTSTART:20130608T190000Z
DTEND:20130608T210000Z
SEQUENCE:0
TRANSP:OPAQUE
END:VEVENT
END:VCALENDAR