BEGIN:VCALENDAR
VERSION:2.0
PRODID:-//jEvents 2.0 for Joomla//EN
CALSCALE:GREGORIAN
METHOD:PUBLISH
BEGIN:VEVENT
UID:8a1d4d794d69317303f0a304dac2dff0
CATEGORIES:Recommandés
SUMMARY:Cedell Davis & Brethren
LOCATION:Mécanique Ondulatoire, passage Thiéré, Bastille
DESCRIPTION;ENCODING=QUOTED-PRINTABLE:<p style="text-align: left;">Encore une occasion unique : Cedell Davis, lég
 ende du downhome blues. 15 euros</p>
DTSTAMP:20260421T212756Z
DTSTART:20130607T190000Z
DTEND:20130607T210000Z
SEQUENCE:0
TRANSP:OPAQUE
END:VEVENT
END:VCALENDAR