BEGIN:VCALENDAR
VERSION:2.0
PRODID:-//jEvents 2.0 for Joomla//EN
CALSCALE:GREGORIAN
METHOD:PUBLISH
BEGIN:VEVENT
UID:477cd15bde341dfe3168514036f9815d
CATEGORIES:Recommandés
SUMMARY:Blues Rules Tour
LOCATION:Flèche d'Or, 102 Bis Rue de Bagnolet  75020 Paris
DESCRIPTION;ENCODING=QUOTED-PRINTABLE:<p style="text-align: left;">Enorme évènement : Left Lane Cruiser, duo d'In
 diana leader du punk-blues, l'immense Robert Belfour, subtil guitariste de 
 Memphis issu des collines du Nord Mississippi, et Lightnin' Malcolm, compli
 ce chronique des rejetons Kimbrough & Burnside. Inratable. 24 euros, et c'e
 st cadeau</p>
DTSTAMP:20260421T212908Z
DTSTART:20130601T180000Z
DTEND:20130601T215900Z
SEQUENCE:0
TRANSP:OPAQUE
END:VEVENT
END:VCALENDAR