BEGIN:VCALENDAR
VERSION:2.0
PRODID:-//jEvents 2.0 for Joomla//EN
CALSCALE:GREGORIAN
METHOD:PUBLISH
BEGIN:VEVENT
UID:06c4237407417a1a8cb3f9fcf272d05b
CATEGORIES:Recommandés
SUMMARY:dernière Sawmill Session avec Cory Seznec
LOCATION:Péniche Demoiselle, face au 57 quai de Seine, bassin de la Villette
DESCRIPTION;ENCODING=QUOTED-PRINTABLE:<p style="text-align: left;">On fête le départ de l'excellent <a href="http
 ://www.coryseznec.com/" target="_blank">Cory Seznec</a>, créateur de cette 
 solide jam old-time fréquentée par la crème des musiciens du style sur pana
 me. 5 euros - convertissables en boissons pour ceux qui jouent !</p>
DTSTAMP:20260421T195034Z
DTSTART:20130528T180000Z
DTEND:20130528T215900Z
SEQUENCE:0
TRANSP:OPAQUE
END:VEVENT
END:VCALENDAR