BEGIN:VCALENDAR
VERSION:2.0
PRODID:-//jEvents 2.0 for Joomla//EN
CALSCALE:GREGORIAN
METHOD:PUBLISH
BEGIN:VEVENT
UID:3792ad1f5de1007b570a170819042816
CATEGORIES:Recommandés
SUMMARY:David Evans avec Lise Hanick + Cory Seznec
LOCATION:Le Saint-Nicolas, rue Pasteur, 95130 Le Plessis-Bouchard
DESCRIPTION;ENCODING=QUOTED-PRINTABLE:<p style="text-align: left;">Dernière date de la tournée de printemps du ma
 ître, et presque dernière date d'adieu de l'excellent Cory Seznec avant son
  déménagement en Ethiopie</p>
DTSTAMP:20260421T195034Z
DTSTART:20130525T183000Z
DTEND:20130525T210000Z
SEQUENCE:0
TRANSP:OPAQUE
END:VEVENT
END:VCALENDAR