BEGIN:VCALENDAR
VERSION:2.0
PRODID:-//jEvents 2.0 for Joomla//EN
CALSCALE:GREGORIAN
METHOD:PUBLISH
BEGIN:VEVENT
UID:076352aa9b88664c06ef8ef3930ebb0a
CATEGORIES:Concerts du Ratel
SUMMARY:The Blues Against Youth en plan après-midi
LOCATION:BAR DES SPORTS, 52 rue Robespierre, MONTREUIL
DESCRIPTION;ENCODING=QUOTED-PRINTABLE:<p style="text-align: left;">du <a href="index.php?option=com_content&view=
 article&id=115:26mai13-tbay&catid=80:concerts-futur&Itemid=496" target="_bl
 ank">bon Onemanband romain</a> entre rock, blues et honky tonk. entrée libr
 e / chapo + conso</p><p style="text-align: left;"> </p>
DTSTAMP:20260421T195033Z
DTSTART:20130526T140000Z
DTEND:20130526T175900Z
SEQUENCE:0
TRANSP:OPAQUE
END:VEVENT
END:VCALENDAR