BEGIN:VCALENDAR
VERSION:2.0
PRODID:-//jEvents 2.0 for Joomla//EN
CALSCALE:GREGORIAN
METHOD:PUBLISH
BEGIN:VEVENT
UID:8a163b6ecef20c6117b46d36043fe7dd
CATEGORIES:Festivals
SUMMARY:Blues Autour du Zinc
LOCATION:Beauvais
DESCRIPTION;ENCODING=QUOTED-PRINTABLE:<p>tout près de Paris, <a href="http://www.zincblues.com/" target="_blank">
 ce festival</a> est extrêmement recommandé pour ses petits concerts chaleur
 eux et de qualité recherchée dans les bars du centre ville le week-end</p>
DTSTAMP:20260421T163935Z
DTSTART:20130312T190000Z
DTEND:20130317T225900Z
SEQUENCE:0
TRANSP:OPAQUE
END:VEVENT
END:VCALENDAR