BEGIN:VCALENDAR
VERSION:2.0
PRODID:-//jEvents 2.0 for Joomla//EN
CALSCALE:GREGORIAN
METHOD:PUBLISH
BEGIN:VEVENT
UID:839de2f5125595f1bb273be3fce23e11
CATEGORIES:Recommandés
SUMMARY:Old Time and Bluegrass Jam
LOCATION:Péniche Anako, quai de Seine, bassin de la Villette, Paris
DESCRIPTION;ENCODING=QUOTED-PRINTABLE:<p>la joyeuse et mélodieuse jam mensuelle de <a href="http://www.coryseznec
 .com/" target="_blank">Cory Seznec</a></p>
DTSTAMP:20260421T164002Z
DTSTART:20130314T190000Z
DTEND:20130314T225900Z
SEQUENCE:0
TRANSP:OPAQUE
END:VEVENT
END:VCALENDAR