BEGIN:VCALENDAR
VERSION:2.0
PRODID:-//jEvents 2.0 for Joomla//EN
CALSCALE:GREGORIAN
METHOD:PUBLISH
BEGIN:VEVENT
UID:b16b4e0837247edd9e6d52ee86b8eec5
CATEGORIES:Recommandés
SUMMARY:Old Rattlers
LOCATION:Le Troll Café, 27 rue de Cotte, 75012 Paris
DESCRIPTION;ENCODING=QUOTED-PRINTABLE:\n\nbon trio blues downhome dans bon bar pour finir la soirée\n
DTSTAMP:20260421T180059Z
DTSTART:20130309T193000Z
DTEND:20130309T213000Z
SEQUENCE:0
TRANSP:OPAQUE
END:VEVENT
END:VCALENDAR