BEGIN:VCALENDAR
VERSION:2.0
PRODID:-//jEvents 2.0 for Joomla//EN
CALSCALE:GREGORIAN
METHOD:PUBLISH
BEGIN:VEVENT
UID:3f0883a3bec3eb9159dc7f90be3d1874
CATEGORIES:Concerts du Ratel
SUMMARY:Thee Verduns en apéro / début de soirée !
LOCATION:Le Plastic Bar, 13 rue Jean Beausire, 75004 Paris
DESCRIPTION;ENCODING=QUOTED-PRINTABLE:<p><a href="index.php?option=com_content&view=article&id=114:09mar13verduns
 &catid=80:concerts-futur&Itemid=496">mes chouchous</a></p><p>entrée libre /
  conso + chapo</p>
DTSTAMP:20260421T164012Z
DTSTART:20130309T180000Z
DTEND:20130309T200000Z
SEQUENCE:0
TRANSP:OPAQUE
END:VEVENT
END:VCALENDAR