BEGIN:VCALENDAR
VERSION:2.0
PRODID:-//jEvents 2.0 for Joomla//EN
CALSCALE:GREGORIAN
METHOD:PUBLISH
BEGIN:VEVENT
UID:b8a253d1fa2de06a56d4e25458003ca4
CATEGORIES:Recommandés
SUMMARY:Petit Vodo
LOCATION:La Cale Sèche, 18 rue des Panoyaux, Paris
DESCRIPTION;ENCODING=QUOTED-PRINTABLE:<p>légendaire (ptet le premier) et trop rare <a href="http://vodo.free.fr/"
  target="_blank">OMB punk-blues français</a></p>
DTSTAMP:20260421T164012Z
DTSTART:20130308T190000Z
DTEND:20130308T225900Z
SEQUENCE:0
TRANSP:OPAQUE
END:VEVENT
END:VCALENDAR