BEGIN:VCALENDAR
VERSION:2.0
PRODID:-//jEvents 2.0 for Joomla//EN
CALSCALE:GREGORIAN
METHOD:PUBLISH
BEGIN:VEVENT
UID:a8af6222a7d95c19d8ab42a772cb6e9f
CATEGORIES:Recommandés
SUMMARY:Megapol
LOCATION:Le Pigalle Country Club,59 rue Jean-Baptiste Pigalle, Paris
DESCRIPTION;ENCODING=QUOTED-PRINTABLE:<p>girls band country-folk semblant <a href="https://soundcloud.com/megapol
 /hello" target="_blank">fort sympathique</a></p>
DTSTAMP:20260421T180222Z
DTSTART:20130308T200000Z
DTEND:20130308T210000Z
SEQUENCE:0
TRANSP:OPAQUE
END:VEVENT
END:VCALENDAR