BEGIN:VCALENDAR
VERSION:2.0
PRODID:-//jEvents 2.0 for Joomla//EN
CALSCALE:GREGORIAN
METHOD:PUBLISH
BEGIN:VEVENT
UID:bfa40ccde79cf9f12694fef7d104f9f2
CATEGORIES:Recommandés
SUMMARY:Cattle Call
LOCATION:l'alliance,112 avenue jean jaurès 75019 paris
DESCRIPTION;ENCODING=QUOTED-PRINTABLE:<p>indispensable groupe hillbilly français</p>
DTSTAMP:20260421T180221Z
DTSTART:20130308T193000Z
SEQUENCE:0
TRANSP:OPAQUE
END:VEVENT
END:VCALENDAR