BEGIN:VCALENDAR
VERSION:2.0
PRODID:-//jEvents 2.0 for Joomla//EN
CALSCALE:GREGORIAN
METHOD:PUBLISH
BEGIN:VEVENT
UID:f38fd41559d708fee194ff57427acb5d
CATEGORIES:Recommandés
SUMMARY:Rene Miller
LOCATION:4 place de la Republique, Montreuil
DESCRIPTION;ENCODING=QUOTED-PRINTABLE:
DTSTAMP:20260421T163827Z
DTSTART:20130308T190000Z
DTEND:20130308T225900Z
SEQUENCE:0
TRANSP:OPAQUE
END:VEVENT
END:VCALENDAR