BEGIN:VCALENDAR
VERSION:2.0
PRODID:-//jEvents 2.0 for Joomla//EN
CALSCALE:GREGORIAN
METHOD:PUBLISH
BEGIN:VEVENT
UID:944ebdbb17b7915d18f0e44458403676
CATEGORIES:Recommandés
SUMMARY: The Backpackers + Sarah Savoy & The Francadians
LOCATION:Le Chinois 6 place du Marché, 93100 Montreuil
DESCRIPTION;ENCODING=QUOTED-PRINTABLE:\n\nIl faut voir la reine parisienne du cajun un jour\n
DTSTAMP:20260421T163613Z
DTSTART:20130307T190000Z
DTEND:20130307T225900Z
SEQUENCE:0
TRANSP:OPAQUE
END:VEVENT
END:VCALENDAR