BEGIN:VCALENDAR
VERSION:2.0
PRODID:-//jEvents 2.0 for Joomla//EN
CALSCALE:GREGORIAN
METHOD:PUBLISH
BEGIN:VEVENT
UID:e7c6c89eeeda9d8c39e4283c41d4d574
CATEGORIES:Recommandés
SUMMARY:Hillbilly Rawhide, Whodunit, l'Ange Détraqué, Nausea Bomb
LOCATION:La Miroiterie, 88 rue de Ménilmontant, Paris
DESCRIPTION;ENCODING=QUOTED-PRINTABLE:\n\npour les punkabillies, 6 euros\n
DTSTAMP:20260421T180058Z
DTSTART:20130307T190000Z
DTEND:20130307T225900Z
SEQUENCE:0
TRANSP:OPAQUE
END:VEVENT
END:VCALENDAR