BEGIN:VCALENDAR
VERSION:2.0
PRODID:-//jEvents 2.0 for Joomla//EN
CALSCALE:GREGORIAN
METHOD:PUBLISH
BEGIN:VEVENT
UID:ce385a72d9e1f8c0e80e9da9da4aa087
CATEGORIES:Concerts du Ratel
SUMMARY:Dirty Deep
LOCATION:BAR DES SPORTS, 52 rue Robespierre, MONTREUIL
DESCRIPTION;ENCODING=QUOTED-PRINTABLE:<p>la relève OBMB de l'Est</p><p><a href="index.php?option=com_content&view
 =article&id=113:10fev13dirtydeep&catid=80:concerts-futur&Itemid=496">+ d'in
 fos</a></p><p>entrée libre / conso + chapo</p>
DTSTAMP:20260419T130922Z
DTSTART:20130210T160000Z
DTEND:20130210T190000Z
SEQUENCE:0
TRANSP:OPAQUE
END:VEVENT
END:VCALENDAR