BEGIN:VCALENDAR
VERSION:2.0
PRODID:-//jEvents 2.0 for Joomla//EN
CALSCALE:GREGORIAN
METHOD:PUBLISH
BEGIN:VEVENT
UID:d34485779f16519ddd639eb106425886
CATEGORIES:Concerts du Ratel
SUMMARY:Sid Sings
LOCATION:La Féline, 6 rue Victor Letalle, Ménilmontant, Paris
DESCRIPTION;ENCODING=QUOTED-PRINTABLE:\n\ndu garage blues british à chanteuse, que demande le peuple ?\n\n\nplus 
 d'info\n\n\nentrée libre / conso + chapo\n
DTSTAMP:20260419T131612Z
DTSTART:20130208T194500Z
DTEND:20130208T225900Z
SEQUENCE:0
TRANSP:OPAQUE
END:VEVENT
END:VCALENDAR