BEGIN:VCALENDAR
VERSION:2.0
PRODID:-//jEvents 2.0 for Joomla//EN
CALSCALE:GREGORIAN
METHOD:PUBLISH
BEGIN:VEVENT
UID:7dc9a34e7da6021eddbc188397ed8a96
CATEGORIES:Tournées
SUMMARY:Mississippi Gabe + Dead Horse Problem : Rennes
LOCATION:la Bernique Hurlante, rue de Saint-Malo, Rennes
DESCRIPTION;ENCODING=QUOTED-PRINTABLE:<p><a href="index.php/sur-la-route/109-gabecarter" target="_blank">page tou
 rnée</a></p>
DTSTAMP:20260420T064726Z
DTSTART:20121206T190000Z
DTEND:20121206T225900Z
SEQUENCE:0
TRANSP:OPAQUE
END:VEVENT
END:VCALENDAR