BEGIN:VCALENDAR
VERSION:2.0
PRODID:-//jEvents 2.0 for Joomla//EN
CALSCALE:GREGORIAN
METHOD:PUBLISH
BEGIN:VEVENT
UID:ecc8cec8d70ec09fc47af8ad20dcc5ea
CATEGORIES:Quelques locaux
SUMMARY:Cory Seznec + Yom From Mars + 
LOCATION:L'alimentation Générale 64 rue Jean-Pierre Timbaud, 75011 Paris
DESCRIPTION;ENCODING=QUOTED-PRINTABLE:<p style="text-align: left;">Bonne soirée en perspective, du folk oldtime a
 u punk-blues</p><p style="text-align: left;"><a href="http://alimentation-g
 enerale.net/events/yom-from-mars-cory-seznec-on-lache-les-chiens/" target="
 _blank">site de la salle</a></p>
DTSTAMP:20260422T082038Z
DTSTART:20121107T190000Z
DTEND:20121107T225900Z
SEQUENCE:0
TRANSP:OPAQUE
END:VEVENT
END:VCALENDAR