BEGIN:VCALENDAR
VERSION:2.0
PRODID:-//jEvents 2.0 for Joomla//EN
CALSCALE:GREGORIAN
METHOD:PUBLISH
BEGIN:VEVENT
UID:a7eaa9bceb2bcc0b8cd0e63bd06551df
CATEGORIES:Recommandés
SUMMARY:Wasted Pido + Sheriff Perkins
LOCATION:BAR DES SPORTS, 52 rue Robespierre, MONTREUIL
DESCRIPTION;ENCODING=QUOTED-PRINTABLE:Hé hé hé, retour des Cowpunx from Hell. Notre vénéré Sheriff Perkins jouera
  avec son vieux complice de Vénétie Wasted Pido, réalisateur de cet inconto
 urnable petit film sur l'une de leurs anciennes tournées, dans le temple mo
 ntreuillois du rock'n'roll qui tâche.\nCowpunx from Hell sur Youtube\n
DTSTAMP:20260424T062445Z
DTSTART:20121210T180000Z
DTEND:20121210T203000Z
SEQUENCE:0
TRANSP:OPAQUE
END:VEVENT
END:VCALENDAR