BEGIN:VCALENDAR
VERSION:2.0
PRODID:-//jEvents 2.0 for Joomla//EN
CALSCALE:GREGORIAN
METHOD:PUBLISH
BEGIN:VEVENT
UID:93e43df670ba5985538beaf95de67b55
CATEGORIES:Recommandés
SUMMARY:Becky Lee + Rene Miller
LOCATION:Mécanique Ondulatoire, passage Thiéré, Bastille
DESCRIPTION;ENCODING=QUOTED-PRINTABLE:<p style="text-align: left;">Détails à venir : il faut que je sois lyrique 
 sur Becky Lee, et j'ai pas le temps, là.</p><p style="text-align: left;"> <
 /p><p style="text-align: left;"><a href="http://www.youtube.com/watch?v=tkE
 7KAUhVQc" target="_blank">vidéo</a></p>
DTSTAMP:20260424T010936Z
DTSTART:20121127T190000Z
DTEND:20121127T225900Z
SEQUENCE:0
TRANSP:OPAQUE
END:VEVENT
END:VCALENDAR