BEGIN:VCALENDAR
VERSION:2.0
PRODID:-//jEvents 2.0 for Joomla//EN
CALSCALE:GREGORIAN
METHOD:PUBLISH
BEGIN:VEVENT
UID:ae9fa434295d6717eda14111f0de4375
CATEGORIES:Quelques locaux
SUMMARY:Cajun
LOCATION:Dorothy's Gallery, rue Keller, Paris (Bastille)
DESCRIPTION;ENCODING=QUOTED-PRINTABLE:<p style="text-align: left;">Un peu hors des clous, mais faut entendre Sara
 h Savoy un jour, et voir l'excellent film "Dedans le sud de la Louisiane" u
 n jour aussi.</p><p style="text-align: left;"><a href="http://dorothysgalle
 ry.com/art/ai1ec_event/soireecajun/?instance_id=72" target="_blank">sur le 
 site du lieu</a></p>
DTSTAMP:20260423T215948Z
DTSTART:20121103T190000Z
DTEND:20121103T225900Z
SEQUENCE:0
TRANSP:OPAQUE
END:VEVENT
END:VCALENDAR