BEGIN:VCALENDAR
VERSION:2.0
PRODID:-//jEvents 2.0 for Joomla//EN
CALSCALE:GREGORIAN
METHOD:PUBLISH
BEGIN:VEVENT
UID:b413d3856ec3954d814f14f57b491fd4
CATEGORIES:Festivals
SUMMARY:Blues sur Seine
LOCATION:Mantes-la-Jolie
DESCRIPTION;ENCODING=QUOTED-PRINTABLE:<p style="text-align: left;">Scott H. Biram bien sûr, Lewis Floyd Henry, Li
 ghtnin' Guy, Terry "Harmonica" Bean surtout... quelques bonnes choses cette
  année au Blues sur Seine</p><p style="text-align: left;"><a href="http://w
 ww.blues-sur-seine.com/le-festival/concerts.html" target="_blank">programme
 </a>  </p>
DTSTAMP:20260424T030936Z
DTSTART;VALUE=DATE:20121109
SEQUENCE:0
TRANSP:OPAQUE
END:VEVENT
END:VCALENDAR