BEGIN:VCALENDAR
VERSION:2.0
PRODID:-//jEvents 2.0 for Joomla//EN
CALSCALE:GREGORIAN
METHOD:PUBLISH
BEGIN:VEVENT
UID:6adbfa64af4b51935df212c8aaf575ef
CATEGORIES:Quelques locaux
SUMMARY:The Hub
LOCATION:Le Melting Potes 32 rue Jean Moulin, 93260 Les Lilas
DESCRIPTION;ENCODING=QUOTED-PRINTABLE:<p><a href="http://fr.myspace.com/hubert06music" target="_blank">sur myspac
 e</a></p>
DTSTAMP:20260423T215937Z
DTSTART:20121102T190000Z
SEQUENCE:0
TRANSP:OPAQUE
END:VEVENT
END:VCALENDAR